BEGIN:VCALENDAR
PRODID:-//eluceo/ical//2.0/EN
VERSION:2.0
CALSCALE:GREGORIAN
BEGIN:VEVENT
UID:8962e818121f61eb31bf392918dc5f99
DTSTAMP:20260422T161609Z
SUMMARY:[männliche D-Jugend LK 2 2014/15] CVJM Flacht AK - CVJM Untertürk
 heim 
URL:https://www.eichenkreuzliga.de/handball/game/id/1616
DTSTART:20150207T140000
DTEND:20150207T150000
LOCATION:Hönisch Sporthalle\, 72144 Dusslingen
END:VEVENT
END:VCALENDAR
