BEGIN:VCALENDAR
PRODID:-//eluceo/ical//2.0/EN
VERSION:2.0
CALSCALE:GREGORIAN
BEGIN:VEVENT
UID:e3eb2698bd8a8cf7ecf0945c4a1467ca
DTSTAMP:20260424T063751Z
SUMMARY:[männliche D-Jugend Runde] CVJM HB Dußlingen-Gomaringen 1 - EK Be
 rnhausen 1
URL:https://www.eichenkreuzliga.de/handball/game/id/16164
DTSTART:20240204T144500
DTEND:20240204T154500
LOCATION:Hönisch Sporthalle\, 72144 Dusslingen
END:VEVENT
END:VCALENDAR
