BEGIN:VCALENDAR
PRODID:-//eluceo/ical//2.0/EN
VERSION:2.0
CALSCALE:GREGORIAN
BEGIN:VEVENT
UID:af412635b58a91422891c85c026443f1
DTSTAMP:20260424T080811Z
SUMMARY:[männliche D-Jugend Runde] CVJM  Walddorfhäslach 2 - EK Bernhause
 n 1
URL:https://www.eichenkreuzliga.de/handball/game/id/16174
DTSTART:20240225T134500
DTEND:20240225T144500
LOCATION:Ballspielhalle\, 72141 Walddorfhäslach
END:VEVENT
END:VCALENDAR
