BEGIN:VCALENDAR
PRODID:-//eluceo/ical//2.0/EN
VERSION:2.0
CALSCALE:GREGORIAN
BEGIN:VEVENT
UID:05b738337b17e6e7634a1f4dac8d4324
DTSTAMP:20260424T084557Z
SUMMARY:[männliche D-Jugend Runde] CVJM Plochingen  - CVJM HB Dußlingen-G
 omaringen 1
URL:https://www.eichenkreuzliga.de/handball/game/id/16176
DTSTART:20240302T130000
DTEND:20240302T140000
LOCATION:Gymnasiumsporthalle\, 73207 Plochingen
END:VEVENT
END:VCALENDAR
NDAR
