BEGIN:VCALENDAR
PRODID:-//eluceo/ical//2.0/EN
VERSION:2.0
CALSCALE:GREGORIAN
BEGIN:VEVENT
UID:b7f0ae5cc7da9015c805bb48570919a3
DTSTAMP:20260424T143616Z
SUMMARY:[männliche E-Jugend Runde] CVJM Kusterdingen e.V.  - CVJM Kirchent
 ellinsfurt 
URL:https://www.eichenkreuzliga.de/handball/game/id/16192
DTSTART:20231014T130000
DTEND:20231014T140000
LOCATION:Härtensporthalle\, 72127 Kusterdingen
END:VEVENT
END:VCALENDAR
