BEGIN:VCALENDAR
PRODID:-//eluceo/ical//2.0/EN
VERSION:2.0
CALSCALE:GREGORIAN
BEGIN:VEVENT
UID:3b580d7047f74530b4dd929383e7fabc
DTSTAMP:20260420T175906Z
SUMMARY:[männliche E-Jugend Runde] CVJM  Walddorfhäslach  - CVJM SG Möss
 ingen/Belsen a.K.
URL:https://www.eichenkreuzliga.de/handball/game/id/16199
DTSTART:20231014T143000
DTEND:20231014T153000
LOCATION:Strohgäuhalle\, 71229 Höfingen
END:VEVENT
END:VCALENDAR
