BEGIN:VCALENDAR
PRODID:-//eluceo/ical//2.0/EN
VERSION:2.0
CALSCALE:GREGORIAN
BEGIN:VEVENT
UID:2e762179d265f0d380dafff75bd270b3
DTSTAMP:20260420T175906Z
SUMMARY:[männliche E-Jugend Runde] CVJM  Walddorfhäslach 2 - CVJM SG Mös
 singen/Belsen a.K.
URL:https://www.eichenkreuzliga.de/handball/game/id/16200
DTSTART:20231014T134000
DTEND:20231014T144000
LOCATION:Strohgäuhalle\, 71229 Höfingen
END:VEVENT
END:VCALENDAR
