BEGIN:VCALENDAR
PRODID:-//eluceo/ical//2.0/EN
VERSION:2.0
CALSCALE:GREGORIAN
BEGIN:VEVENT
UID:21b6e5382a59a7b9e4351822a5a09be4
DTSTAMP:20260420T230307Z
SUMMARY:[männliche E-Jugend Runde] CVJM Enzweihingen D1 - CVJM Kusterdinge
 n e.V. 
URL:https://www.eichenkreuzliga.de/handball/game/id/16201
DTSTART:20231112T130000
DTEND:20231112T140000
LOCATION:Schulsporthalle\, 71665 Enzweihingen
END:VEVENT
END:VCALENDAR
