BEGIN:VCALENDAR
PRODID:-//eluceo/ical//2.0/EN
VERSION:2.0
CALSCALE:GREGORIAN
BEGIN:VEVENT
UID:eb0d785c33b13b5c669b33d83b59265a
DTSTAMP:20260421T003944Z
SUMMARY:[männliche E-Jugend Runde] CVJM Kusterdingen e.V.  - EK Bernhausen
  1
URL:https://www.eichenkreuzliga.de/handball/game/id/16203
DTSTART:20231112T143000
DTEND:20231112T153000
LOCATION:Schulsporthalle\, 71665 Enzweihingen
END:VEVENT
END:VCALENDAR
