BEGIN:VCALENDAR
PRODID:-//eluceo/ical//2.0/EN
VERSION:2.0
CALSCALE:GREGORIAN
BEGIN:VEVENT
UID:af032a5193220d82e5f417ac9c2216ae
DTSTAMP:20260420T212534Z
SUMMARY:[männliche E-Jugend Runde] CVJM Enzweihingen D1 - CVJM Hülben 
URL:https://www.eichenkreuzliga.de/handball/game/id/16204
DTSTART:20231112T151000
DTEND:20231112T161000
LOCATION:Schulsporthalle\, 71665 Enzweihingen
END:VEVENT
END:VCALENDAR
