BEGIN:VCALENDAR
PRODID:-//eluceo/ical//2.0/EN
VERSION:2.0
CALSCALE:GREGORIAN
BEGIN:VEVENT
UID:6f52fe504448170788d6926d03ed402a
DTSTAMP:20260420T212501Z
SUMMARY:[männliche E-Jugend Runde] CVJM SG Mössingen/Belsen a.K. - CVJM H
 B Dußlingen-Gomaringen 1
URL:https://www.eichenkreuzliga.de/handball/game/id/16207
DTSTART:20231112T151000
DTEND:20231112T161000
LOCATION:Jahnhalle 2\, 72116 Mössingen
END:VEVENT
END:VCALENDAR
