BEGIN:VCALENDAR
PRODID:-//eluceo/ical//2.0/EN
VERSION:2.0
CALSCALE:GREGORIAN
BEGIN:VEVENT
UID:d46a56dc0a8feaa9f8b6c58eb079d553
DTSTAMP:20260421T004000Z
SUMMARY:[männliche E-Jugend Runde] CVJM  Walddorfhäslach  - CVJM Mögling
 en 
URL:https://www.eichenkreuzliga.de/handball/game/id/16212
DTSTART:20231119T143000
DTEND:20231119T153000
LOCATION:Burgschulhalle\, 73257 Köngen
END:VEVENT
END:VCALENDAR
