BEGIN:VCALENDAR
PRODID:-//eluceo/ical//2.0/EN
VERSION:2.0
CALSCALE:GREGORIAN
BEGIN:VEVENT
UID:ba523cb4faf451362028930a87fce23d
DTSTAMP:20260420T175814Z
SUMMARY:[männliche E-Jugend Runde] CVJM Kirchentellinsfurt  - EJW Münchin
 gen 
URL:https://www.eichenkreuzliga.de/handball/game/id/16216
DTSTART:20231216T155000
DTEND:20231216T165000
LOCATION:Sporthalle\, 72138 Kirchentellinsfurt
END:VEVENT
END:VCALENDAR
