BEGIN:VCALENDAR
PRODID:-//eluceo/ical//2.0/EN
VERSION:2.0
CALSCALE:GREGORIAN
BEGIN:VEVENT
UID:e1b3b4ebbd58f8171a4df3bb76f58eb7
DTSTAMP:20260420T175907Z
SUMMARY:[männliche E-Jugend Runde] CVJM Hagelloch - Kusterdingen 1 - EJW M
 ünchingen 
URL:https://www.eichenkreuzliga.de/handball/game/id/16217
DTSTART:20231216T143000
DTEND:20231216T153000
LOCATION:Sporthalle\, 72138 Kirchentellinsfurt
END:VEVENT
END:VCALENDAR
