BEGIN:VCALENDAR
PRODID:-//eluceo/ical//2.0/EN
VERSION:2.0
CALSCALE:GREGORIAN
BEGIN:VEVENT
UID:7f82825e1a4e6374d6890b096da6f9d3
DTSTAMP:20260420T212508Z
SUMMARY:[männliche E-Jugend Runde] CVJM Kusterdingen e.V.  - EK Köngen 
URL:https://www.eichenkreuzliga.de/handball/game/id/16218
DTSTART:20231216T133000
DTEND:20231216T143000
LOCATION:Stadionhalle\, 71696 Möglingen
END:VEVENT
END:VCALENDAR
