BEGIN:VCALENDAR
PRODID:-//eluceo/ical//2.0/EN
VERSION:2.0
CALSCALE:GREGORIAN
BEGIN:VEVENT
UID:06e3d98d873dc40418f573de7d9dec7e
DTSTAMP:20260423T210911Z
SUMMARY:[männliche E-Jugend Runde] EK Bernhausen 1 - EK Höfingen 
URL:https://www.eichenkreuzliga.de/handball/game/id/16227
DTSTART:20231216T125500
DTEND:20231216T135500
LOCATION:Elisabeth-Selbert-Gymnasium Halle\, 70794 Bernhausen
END:VEVENT
END:VCALENDAR
