BEGIN:VCALENDAR
PRODID:-//eluceo/ical//2.0/EN
VERSION:2.0
CALSCALE:GREGORIAN
BEGIN:VEVENT
UID:cab3abcc00762143886bed060f3ce778
DTSTAMP:20260420T175707Z
SUMMARY:[männliche E-Jugend Runde] EK Köngen  - CVJM Enzweihingen D1
URL:https://www.eichenkreuzliga.de/handball/game/id/16239
DTSTART:20240121T151000
DTEND:20240121T161000
LOCATION:Burgschulhalle\, 73257 Köngen
END:VEVENT
END:VCALENDAR
