BEGIN:VCALENDAR
PRODID:-//eluceo/ical//2.0/EN
VERSION:2.0
CALSCALE:GREGORIAN
BEGIN:VEVENT
UID:84968093e3851d476185b495c4fc866b
DTSTAMP:20260420T175814Z
SUMMARY:[männliche E-Jugend Runde] CVJM Enzweihingen D1 - CVJM Möglingen 
URL:https://www.eichenkreuzliga.de/handball/game/id/16241
DTSTART:20240121T134000
DTEND:20240121T144000
LOCATION:Burgschulhalle\, 73257 Köngen
END:VEVENT
END:VCALENDAR
