BEGIN:VCALENDAR
PRODID:-//eluceo/ical//2.0/EN
VERSION:2.0
CALSCALE:GREGORIAN
BEGIN:VEVENT
UID:bd9de33d14e9077bdf8a709c0d702539
DTSTAMP:20260420T175748Z
SUMMARY:[männliche E-Jugend Runde] CVJM Hülben  - CVJM Kusterdingen e.V. 
URL:https://www.eichenkreuzliga.de/handball/game/id/16247
DTSTART:20240203T143000
DTEND:20240203T153000
LOCATION:Sporthalle Waldhäuser-Ost\, 72076 Tübingen
END:VEVENT
END:VCALENDAR
