BEGIN:VCALENDAR
PRODID:-//eluceo/ical//2.0/EN
VERSION:2.0
CALSCALE:GREGORIAN
BEGIN:VEVENT
UID:844ffcb897ba3fa47ad031248dbe0a9c
DTSTAMP:20260420T175626Z
SUMMARY:[männliche E-Jugend Runde] EK Höfingen  - EK Köngen 
URL:https://www.eichenkreuzliga.de/handball/game/id/16248
DTSTART:20240302T151000
DTEND:20240302T161000
LOCATION:Strohgäuhalle\, 71229 Höfingen
END:VEVENT
END:VCALENDAR
