BEGIN:VCALENDAR
PRODID:-//eluceo/ical//2.0/EN
VERSION:2.0
CALSCALE:GREGORIAN
BEGIN:VEVENT
UID:5b7561bdea09c56d5f5adb1e90071d64
DTSTAMP:20260423T210912Z
SUMMARY:[männliche E-Jugend Runde] CVJM SG Mössingen/Belsen a.K. - EK Hö
 fingen 
URL:https://www.eichenkreuzliga.de/handball/game/id/16252
DTSTART:20240302T160000
DTEND:20240302T170000
LOCATION:Strohgäuhalle\, 71229 Höfingen
END:VEVENT
END:VCALENDAR
