BEGIN:VCALENDAR
PRODID:-//eluceo/ical//2.0/EN
VERSION:2.0
CALSCALE:GREGORIAN
BEGIN:VEVENT
UID:e04ea4df74ef0881b564e2e14b95af49
DTSTAMP:20260420T194622Z
SUMMARY:[männliche E-Jugend Runde] CVJM  Walddorfhäslach 2 - CVJM Hagello
 ch - Kusterdingen 1
URL:https://www.eichenkreuzliga.de/handball/game/id/16260
DTSTART:20240224T133000
DTEND:20240224T143000
LOCATION:Ballspielhalle\, 72141 Walddorfhäslach
END:VEVENT
END:VCALENDAR
