BEGIN:VCALENDAR
PRODID:-//eluceo/ical//2.0/EN
VERSION:2.0
CALSCALE:GREGORIAN
BEGIN:VEVENT
UID:94a7e2fa0d685d87db66c51967bac17e
DTSTAMP:20260423T210748Z
SUMMARY:[männliche E-Jugend Runde] CVJM Kirchentellinsfurt  - EK Bernhause
 n 1
URL:https://www.eichenkreuzliga.de/handball/game/id/16263
DTSTART:20240224T160000
DTEND:20240224T170000
LOCATION:Hönisch Sporthalle\, 72144 Dusslingen
END:VEVENT
END:VCALENDAR
