BEGIN:VCALENDAR
PRODID:-//eluceo/ical//2.0/EN
VERSION:2.0
CALSCALE:GREGORIAN
BEGIN:VEVENT
UID:37a3ce5819da3285daa44a08fbaa54d6
DTSTAMP:20260420T194542Z
SUMMARY:[männliche E-Jugend Runde] CVJM  Walddorfhäslach  - CVJM Hülben 
URL:https://www.eichenkreuzliga.de/handball/game/id/16271
DTSTART:20240309T000000
DTEND:20240309T010000
LOCATION:Ballspielhalle\, 72141 Walddorfhäslach
END:VEVENT
END:VCALENDAR
