BEGIN:VCALENDAR
PRODID:-//eluceo/ical//2.0/EN
VERSION:2.0
CALSCALE:GREGORIAN
BEGIN:VEVENT
UID:f9713bbf23af46f980a49e4f4c778c75
DTSTAMP:20260420T212501Z
SUMMARY:[männliche E-Jugend Runde] CVJM Möglingen  - CVJM Hülben 
URL:https://www.eichenkreuzliga.de/handball/game/id/16285
DTSTART:20231216T000000
DTEND:20231216T010000
LOCATION:Stadionhalle\, 71696 Möglingen
END:VEVENT
END:VCALENDAR
