BEGIN:VCALENDAR
PRODID:-//eluceo/ical//2.0/EN
VERSION:2.0
CALSCALE:GREGORIAN
BEGIN:VEVENT
UID:159cd55c76e92c77c85e3b63f26e436c
DTSTAMP:20260420T180454Z
SUMMARY:[Frauen Landesliga] CVJM Hagelloch - Kusterdingen - CVJM SG Mössin
 gen/Belsen 
URL:https://www.eichenkreuzliga.de/handball/game/id/16342
DTSTART:20231021T150000
DTEND:20231021T160000
LOCATION:Kreissporthalle Tübingen\, 72072 Tübingen
END:VEVENT
END:VCALENDAR
