BEGIN:VCALENDAR
PRODID:-//eluceo/ical//2.0/EN
VERSION:2.0
CALSCALE:GREGORIAN
BEGIN:VEVENT
UID:5a38624b660d3b854a4cf4c31f9b4fa9
DTSTAMP:20260420T175831Z
SUMMARY:[Frauen Landesliga] CVJM Hagelloch - Kusterdingen - CVJM HB Dußlin
 gen-Gomaringen 2
URL:https://www.eichenkreuzliga.de/handball/game/id/16347
DTSTART:20240317T153000
DTEND:20240317T163000
LOCATION:Sporthalle Waldhäuser-Ost\, 72076 Tübingen
END:VEVENT
END:VCALENDAR
