BEGIN:VCALENDAR
PRODID:-//eluceo/ical//2.0/EN
VERSION:2.0
CALSCALE:GREGORIAN
BEGIN:VEVENT
UID:d81b885f916a3a49530af37579b93503
DTSTAMP:20260420T181002Z
SUMMARY:[Frauen Landesliga] CVJM Hagelloch - Kusterdingen - EK Bernhausen 
URL:https://www.eichenkreuzliga.de/handball/game/id/16348
DTSTART:20240413T160000
DTEND:20240413T170000
LOCATION:Sporthalle Waldhäuser-Ost\, 72076 Tübingen
END:VEVENT
END:VCALENDAR
