BEGIN:VCALENDAR
PRODID:-//eluceo/ical//2.0/EN
VERSION:2.0
CALSCALE:GREGORIAN
BEGIN:VEVENT
UID:4ccfa08c04332613efd3a4959a82b90e
DTSTAMP:20260420T230332Z
SUMMARY:[Frauen Landesliga] CVJM HB Dußlingen-Gomaringen 2 - CVJM Hagelloc
 h - Kusterdingen
URL:https://www.eichenkreuzliga.de/handball/game/id/16355
DTSTART:20231118T193000
DTEND:20231118T203000
LOCATION:Hönisch Sporthalle\, 72144 Dusslingen
END:VEVENT
END:VCALENDAR
