BEGIN:VCALENDAR
PRODID:-//eluceo/ical//2.0/EN
VERSION:2.0
CALSCALE:GREGORIAN
BEGIN:VEVENT
UID:40e21c968fe8d2b7093057fd7c3dd88e
DTSTAMP:20260420T180802Z
SUMMARY:[Frauen Landesliga] CVJM Kirchentellinsfurt  - CVJM Hagelloch - Kus
 terdingen
URL:https://www.eichenkreuzliga.de/handball/game/id/16365
DTSTART:20240210T164500
DTEND:20240210T174500
LOCATION:Sporthalle\, 72138 Kirchentellinsfurt
END:VEVENT
END:VCALENDAR
