BEGIN:VCALENDAR
PRODID:-//eluceo/ical//2.0/EN
VERSION:2.0
CALSCALE:GREGORIAN
BEGIN:VEVENT
UID:9cc90f6821096f204fe4f3d007013141
DTSTAMP:20260420T175625Z
SUMMARY:[Frauen Landesliga] CVJM Kirchentellinsfurt  - EK Bernhausen 
URL:https://www.eichenkreuzliga.de/handball/game/id/16367
DTSTART:20240316T170000
DTEND:20240316T180000
LOCATION:Sporthalle\, 72138 Kirchentellinsfurt
END:VEVENT
END:VCALENDAR
