BEGIN:VCALENDAR
PRODID:-//eluceo/ical//2.0/EN
VERSION:2.0
CALSCALE:GREGORIAN
BEGIN:VEVENT
UID:fb05002eac07cf0028cf23fa64eb51b9
DTSTAMP:20260420T230124Z
SUMMARY:[Frauen Landesliga] EK Bernhausen  - CVJM Hagelloch - Kusterdingen
URL:https://www.eichenkreuzliga.de/handball/game/id/16382
DTSTART:20231007T174500
DTEND:20231007T184500
LOCATION:Elisabeth-Selbert-Gymnasium Halle\, 70794 Bernhausen
END:VEVENT
END:VCALENDAR
