BEGIN:VCALENDAR
PRODID:-//eluceo/ical//2.0/EN
VERSION:2.0
CALSCALE:GREGORIAN
BEGIN:VEVENT
UID:43377621935edbe3ec8aae9d3cd87931
DTSTAMP:20260420T175748Z
SUMMARY:[Frauen Landesliga] CVJM SG Mössingen/Belsen  - EK Bernhausen 
URL:https://www.eichenkreuzliga.de/handball/game/id/16378
DTSTART:20231125T143000
DTEND:20231125T153000
LOCATION:Jahnhalle 2\, 72116 Mössingen
END:VEVENT
END:VCALENDAR
