BEGIN:VCALENDAR
PRODID:-//eluceo/ical//2.0/EN
VERSION:2.0
CALSCALE:GREGORIAN
BEGIN:VEVENT
UID:6ae68b09bb63ea5c27d4be60c89b6827
DTSTAMP:20260420T212507Z
SUMMARY:[Frauen Landesliga] EK Bernhausen  - CVJM SG Mössingen/Belsen 
URL:https://www.eichenkreuzliga.de/handball/game/id/16388
DTSTART:20240323T160000
DTEND:20240323T170000
LOCATION:Elisabeth-Selbert-Gymnasium Halle\, 70794 Bernhausen
END:VEVENT
END:VCALENDAR
