BEGIN:VCALENDAR
PRODID:-//eluceo/ical//2.0/EN
VERSION:2.0
CALSCALE:GREGORIAN
BEGIN:VEVENT
UID:5cfff4c292e9a9c677e7413777379ed9
DTSTAMP:20260424T160110Z
SUMMARY:[Herren LK1] CVJM Großbottwar  - SG Filder 
URL:https://www.eichenkreuzliga.de/fussball/game/id/16408
DTSTART:20230924T173000
DTEND:20230924T183000
LOCATION:\,  
END:VEVENT
END:VCALENDAR
