BEGIN:VCALENDAR
PRODID:-//eluceo/ical//2.0/EN
VERSION:2.0
CALSCALE:GREGORIAN
BEGIN:VEVENT
UID:241d9ad275e59d9f1812deef53b5d1ce
DTSTAMP:20260424T160121Z
SUMMARY:[Herren LK1] CVJM Dettingen/Erms  - CVJM Großbottwar 
URL:https://www.eichenkreuzliga.de/fussball/game/id/16434
DTSTART:20231104T170000
DTEND:20231104T180000
LOCATION:\,  
END:VEVENT
END:VCALENDAR
