BEGIN:VCALENDAR
PRODID:-//eluceo/ical//2.0/EN
VERSION:2.0
CALSCALE:GREGORIAN
BEGIN:VEVENT
UID:683e9b927a76165231706046abc04771
DTSTAMP:20260424T031234Z
SUMMARY:[Männer LK3] CVJM Enzweihingen 1b - CVJM SG Mössingen/Belsen 1b
URL:https://www.eichenkreuzliga.de/handball/game/id/16907
DTSTART:20240127T160000
DTEND:20240127T170000
LOCATION:Schulsporthalle\, 71665 Enzweihingen
END:VEVENT
END:VCALENDAR
:VEVENT
END:VCALENDAR
