BEGIN:VCALENDAR
PRODID:-//eluceo/ical//2.0/EN
VERSION:2.0
CALSCALE:GREGORIAN
BEGIN:VEVENT
UID:7b729cd410e8c4932a38223cf1799497
DTSTAMP:20260424T030429Z
SUMMARY:[weibliche D-Jugend Runde] CVJM SG Mössingen/Belsen  - CVJM HB Du
 ßlingen-Gomaringen 1
URL:https://www.eichenkreuzliga.de/handball/game/id/16575
DTSTART:20240128T150000
DTEND:20240128T160000
LOCATION:Elisabeth-Selbert-Gymnasium Halle\, 70794 Bernhausen
END:VEVENT
END:VCALENDAR
