BEGIN:VCALENDAR
PRODID:-//eluceo/ical//2.0/EN
VERSION:2.0
CALSCALE:GREGORIAN
BEGIN:VEVENT
UID:d6902a7c4412d2fde7df963bba4e54bd
DTSTAMP:20260424T124511Z
SUMMARY:[weibliche E-Jugend Runde] CVJM  Walddorfhäslach  - CVJM Kirchente
 llinsfurt 
URL:https://www.eichenkreuzliga.de/handball/game/id/16647
DTSTART:20231118T132000
DTEND:20231118T142000
LOCATION:Ballspielhalle\, 72141 Walddorfhäslach
END:VEVENT
END:VCALENDAR
