BEGIN:VCALENDAR
PRODID:-//eluceo/ical//2.0/EN
VERSION:2.0
CALSCALE:GREGORIAN
BEGIN:VEVENT
UID:136a55de80f00c8f7acfe98d3c99899d
DTSTAMP:20260424T084815Z
SUMMARY:[weibliche E-Jugend Runde] CVJM  Walddorfhäslach  - EK Köngen 
URL:https://www.eichenkreuzliga.de/handball/game/id/16651
DTSTART:20231217T155500
DTEND:20231217T165500
LOCATION:Hönisch Sporthalle\, 72144 Dusslingen
END:VEVENT
END:VCALENDAR
