BEGIN:VCALENDAR
PRODID:-//eluceo/ical//2.0/EN
VERSION:2.0
CALSCALE:GREGORIAN
BEGIN:VEVENT
UID:df94f3228fe3c35c3b2516d5e73b0c8e
DTSTAMP:20260424T085325Z
SUMMARY:[weibliche E-Jugend Runde] CVJM HB Dußlingen-Gomaringen 1 - CVJM  
 Walddorfhäslach 
URL:https://www.eichenkreuzliga.de/handball/game/id/16653
DTSTART:20231217T142000
DTEND:20231217T152000
LOCATION:Hönisch Sporthalle\, 72144 Dusslingen
END:VEVENT
END:VCALENDAR
