BEGIN:VCALENDAR
PRODID:-//eluceo/ical//2.0/EN
VERSION:2.0
CALSCALE:GREGORIAN
BEGIN:VEVENT
UID:282ddf5e97940e5790735befe213a259
DTSTAMP:20260424T124547Z
SUMMARY:[weibliche E-Jugend Runde] CVJM Untertürkheim  - CVJM  Walddorfhä
 slach 
URL:https://www.eichenkreuzliga.de/handball/game/id/16662
DTSTART:20240203T150000
DTEND:20240203T160000
LOCATION:Burgschulhalle\, 73257 Köngen
END:VEVENT
END:VCALENDAR
