BEGIN:VCALENDAR
PRODID:-//eluceo/ical//2.0/EN
VERSION:2.0
CALSCALE:GREGORIAN
BEGIN:VEVENT
UID:4d9c1b53e967b59e066c10669bd8df1a
DTSTAMP:20260424T141001Z
SUMMARY:[weibliche E-Jugend Runde] CVJM Kirchentellinsfurt  - CVJM  Walddor
 fhäslach 
URL:https://www.eichenkreuzliga.de/handball/game/id/16663
DTSTART:20240203T132000
DTEND:20240203T142000
LOCATION:Burgschulhalle\, 73257 Köngen
END:VEVENT
END:VCALENDAR
