BEGIN:VCALENDAR
PRODID:-//eluceo/ical//2.0/EN
VERSION:2.0
CALSCALE:GREGORIAN
BEGIN:VEVENT
UID:4c81ab428a7ac3a100c9183b4ea41515
DTSTAMP:20260424T140837Z
SUMMARY:[weibliche E-Jugend Runde] EK Köngen  - CVJM HB Dußlingen-Gomarin
 gen 1
URL:https://www.eichenkreuzliga.de/handball/game/id/16664
DTSTART:20240203T142000
DTEND:20240203T152000
LOCATION:Burgschulhalle\, 73257 Köngen
END:VEVENT
END:VCALENDAR
