BEGIN:VCALENDAR
PRODID:-//eluceo/ical//2.0/EN
VERSION:2.0
CALSCALE:GREGORIAN
BEGIN:VEVENT
UID:4b773fb7015d30e8d6c649c7a8a67b44
DTSTAMP:20260424T140936Z
SUMMARY:[weibliche E-Jugend Runde] CVJM HB Dußlingen-Gomaringen 1 - CVJM U
 ntertürkheim 
URL:https://www.eichenkreuzliga.de/handball/game/id/16665
DTSTART:20240203T124000
DTEND:20240203T134000
LOCATION:Burgschulhalle\, 73257 Köngen
END:VEVENT
END:VCALENDAR
