BEGIN:VCALENDAR
PRODID:-//eluceo/ical//2.0/EN
VERSION:2.0
CALSCALE:GREGORIAN
BEGIN:VEVENT
UID:a4d4439c17d0eb6e1e9c2aa2f608d3c7
DTSTAMP:20260424T142523Z
SUMMARY:[weibliche E-Jugend Runde] CVJM Kirchentellinsfurt  - CVJM HB Dußl
 ingen-Gomaringen 1
URL:https://www.eichenkreuzliga.de/handball/game/id/16672
DTSTART:20240316T130000
DTEND:20240316T140000
LOCATION:Sporthalle\, 72138 Kirchentellinsfurt
END:VEVENT
END:VCALENDAR
