BEGIN:VCALENDAR
PRODID:-//eluceo/ical//2.0/EN
VERSION:2.0
CALSCALE:GREGORIAN
BEGIN:VEVENT
UID:3e1587ff83a38a0237ee863bdebe92c4
DTSTAMP:20260424T124341Z
SUMMARY:[weibliche E-Jugend Runde] CVJM Untertürkheim  - CVJM HB Dußlinge
 n-Gomaringen 1
URL:https://www.eichenkreuzliga.de/handball/game/id/16673
DTSTART:20240316T142000
DTEND:20240316T152000
LOCATION:Sporthalle\, 72138 Kirchentellinsfurt
END:VEVENT
END:VCALENDAR
AR
