BEGIN:VCALENDAR
PRODID:-//eluceo/ical//2.0/EN
VERSION:2.0
CALSCALE:GREGORIAN
BEGIN:VEVENT
UID:a2a0d97491d6412d427d3bdb932c7a19
DTSTAMP:20260424T141058Z
SUMMARY:[weibliche E-Jugend Runde] CVJM Kirchentellinsfurt  - CVJM HB Dußl
 ingen-Gomaringen 2
URL:https://www.eichenkreuzliga.de/handball/game/id/16674
DTSTART:20240316T152000
DTEND:20240316T162000
LOCATION:Sporthalle\, 72138 Kirchentellinsfurt
END:VEVENT
END:VCALENDAR
