BEGIN:VCALENDAR
PRODID:-//eluceo/ical//2.0/EN
VERSION:2.0
CALSCALE:GREGORIAN
BEGIN:VEVENT
UID:5c52ec1b426fd9ae0b4063d811c52a9b
DTSTAMP:20260420T180500Z
SUMMARY:[weibliche E-Jugend Finalspieltag] CVJM HB Dußlingen-Gomaringen 1 
 - EK Köngen 
URL:https://www.eichenkreuzliga.de/handball/game/id/16702
DTSTART:20240413T144500
DTEND:20240413T154500
LOCATION:Hönisch Sporthalle\, 72144 Dusslingen
END:VEVENT
END:VCALENDAR
