BEGIN:VCALENDAR
PRODID:-//eluceo/ical//2.0/EN
VERSION:2.0
CALSCALE:GREGORIAN
BEGIN:VEVENT
UID:2a5ec3c542a128bad1956f3ca1c02778
DTSTAMP:20260420T180643Z
SUMMARY:[weibliche E-Jugend Finalspieltag] CVJM  Walddorfhäslach  - CVJM K
 irchentellinsfurt 
URL:https://www.eichenkreuzliga.de/handball/game/id/16703
DTSTART:20240413T153000
DTEND:20240413T163000
LOCATION:Hönisch Sporthalle\, 72144 Dusslingen
END:VEVENT
END:VCALENDAR
